BEGIN:VCALENDAR
VERSION:2.0
PRODID:-//St Wilfrid&#039;s  - Kibworth - ECPv6.15.20//NONSGML v1.0//EN
CALSCALE:GREGORIAN
METHOD:PUBLISH
X-WR-CALNAME:St Wilfrid&#039;s  - Kibworth
X-ORIGINAL-URL:https://stwilfridskibworth.co.uk
X-WR-CALDESC:Events for St Wilfrid&#039;s  - Kibworth
REFRESH-INTERVAL;VALUE=DURATION:PT1H
X-Robots-Tag:noindex
X-PUBLISHED-TTL:PT1H
BEGIN:VTIMEZONE
TZID:Europe/London
BEGIN:DAYLIGHT
TZOFFSETFROM:+0000
TZOFFSETTO:+0100
TZNAME:BST
DTSTART:20250330T010000
END:DAYLIGHT
BEGIN:STANDARD
TZOFFSETFROM:+0100
TZOFFSETTO:+0000
TZNAME:GMT
DTSTART:20251026T010000
END:STANDARD
BEGIN:DAYLIGHT
TZOFFSETFROM:+0000
TZOFFSETTO:+0100
TZNAME:BST
DTSTART:20260329T010000
END:DAYLIGHT
BEGIN:STANDARD
TZOFFSETFROM:+0100
TZOFFSETTO:+0000
TZNAME:GMT
DTSTART:20261025T010000
END:STANDARD
BEGIN:DAYLIGHT
TZOFFSETFROM:+0000
TZOFFSETTO:+0100
TZNAME:BST
DTSTART:20270328T010000
END:DAYLIGHT
BEGIN:STANDARD
TZOFFSETFROM:+0100
TZOFFSETTO:+0000
TZNAME:GMT
DTSTART:20271031T010000
END:STANDARD
END:VTIMEZONE
BEGIN:VEVENT
DTSTART;TZID=Europe/London:20260327T190000
DTEND;TZID=Europe/London:20260327T213000
DTSTAMP:20260421T165147
CREATED:20260316T192829Z
LAST-MODIFIED:20260316T192900Z
UID:2104-1774638000-1774647000@stwilfridskibworth.co.uk
SUMMARY:Concert: 'O Albion: Echoes of England'
DESCRIPTION:Join us at St Wilfrid’s Church for a wonderful evening of music from the Harborough Collective\, led by David le Page. \n\n\n\nTickets are available from: www.ticketsource.co.uk/harboroughconcerts
URL:https://stwilfridskibworth.co.uk/event/o-albion-echoes-of-england/
LOCATION:St Wilfrid’s Church\, St Wilfrids Church\, Leicester\, LE8 0NB\, United Kingdom
ATTACH;FMTTYPE=image/jpeg:https://stwilfridskibworth.co.uk/wp-content/uploads/2026/03/O-Albion-concert.avif
END:VEVENT
BEGIN:VEVENT
DTSTART;TZID=Europe/London:20260326T130000
DTEND;TZID=Europe/London:20260326T160000
DTSTAMP:20260421T165147
CREATED:20260310T162608Z
LAST-MODIFIED:20260310T162610Z
UID:2078-1774530000-1774540800@stwilfridskibworth.co.uk
SUMMARY:Candles for Easter
DESCRIPTION:Following the Reflective Easter Lunch in the Church Hall\, the church will be open for anyone to pray or light a candle in memory of a loved one.
URL:https://stwilfridskibworth.co.uk/event/candles-for-easter/
LOCATION:St Wilfrid’s Church\, St Wilfrids Church\, Leicester\, LE8 0NB\, United Kingdom
ATTACH;FMTTYPE=image/jpeg:https://stwilfridskibworth.co.uk/wp-content/uploads/2026/03/candles.avif
END:VEVENT
BEGIN:VEVENT
DTSTART;TZID=Europe/London:20260326T120000
DTEND;TZID=Europe/London:20260326T140000
DTSTAMP:20260421T165147
CREATED:20260310T161804Z
LAST-MODIFIED:20260310T161806Z
UID:2069-1774526400-1774533600@stwilfridskibworth.co.uk
SUMMARY:Reflective Easter Lunch at St Wilfrid's Church Hall
DESCRIPTION:In place of our usual Lent Lunches the Pastoral Team invites you to a Reflective Easter Lunch on Thursday 26th March from 12-2.00pm in the Church Hall. \n\n\n\nWe will be serving a lunch of jacket potatoes and a choice of fillings followed by tea/coffee.There will be prayers and readings – and a raffle with proceeds to be given to charity; there is no charge for the meal but donations to charity are welcome. We will offer soup and a roll if you don’t like potatoes! \n\n\n\nIn the past these lunches have always been a chance to reflect on the meaning of Lent and Christ’s passion. They  also offer fellowship – a lovely way to be with others. \n\n\n\nIf possible please could you let the Church Office know if you would like to come on 0116 2796577. \n\n\n\nWe look forward to seeing you there.
URL:https://stwilfridskibworth.co.uk/event/reflective-easter-lunch-at-st-wilfrids-church-hall/
LOCATION:St Wilfrid’s Church Hall\, Church Street\, Kibworth\, LE8 0NB
ATTACH;FMTTYPE=image/webp:https://stwilfridskibworth.co.uk/wp-content/uploads/2026/03/Easter.avif
END:VEVENT
BEGIN:VEVENT
DTSTART;TZID=Europe/London:20260322T103000
DTEND;TZID=Europe/London:20260322T120000
DTSTAMP:20260421T165147
CREATED:20260310T160732Z
LAST-MODIFIED:20260310T163755Z
UID:2065-1774175400-1774180800@stwilfridskibworth.co.uk
SUMMARY:Worship Service with guest speaker
DESCRIPTION:We welcome guest speaker Tim Dixon from Hungarton\, and member of Knighton Free Church\, to give a talk.
URL:https://stwilfridskibworth.co.uk/event/worship-service-with-gust-speaker/
LOCATION:St Wilfrid’s Church\, St Wilfrids Church\, Leicester\, LE8 0NB\, United Kingdom
ATTACH;FMTTYPE=image/webp:https://stwilfridskibworth.co.uk/wp-content/uploads/2026/03/Tim-Dixon.avif
END:VEVENT
END:VCALENDAR