BEGIN:VCALENDAR
VERSION:2.0
PRODID:-//St Wilfrid&#039;s  - Kibworth - ECPv6.15.20//NONSGML v1.0//EN
CALSCALE:GREGORIAN
METHOD:PUBLISH
X-ORIGINAL-URL:https://stwilfridskibworth.co.uk
X-WR-CALDESC:Events for St Wilfrid&#039;s  - Kibworth
REFRESH-INTERVAL;VALUE=DURATION:PT1H
X-Robots-Tag:noindex
X-PUBLISHED-TTL:PT1H
BEGIN:VTIMEZONE
TZID:Europe/London
BEGIN:DAYLIGHT
TZOFFSETFROM:+0000
TZOFFSETTO:+0100
TZNAME:BST
DTSTART:20250330T010000
END:DAYLIGHT
BEGIN:STANDARD
TZOFFSETFROM:+0100
TZOFFSETTO:+0000
TZNAME:GMT
DTSTART:20251026T010000
END:STANDARD
BEGIN:DAYLIGHT
TZOFFSETFROM:+0000
TZOFFSETTO:+0100
TZNAME:BST
DTSTART:20260329T010000
END:DAYLIGHT
BEGIN:STANDARD
TZOFFSETFROM:+0100
TZOFFSETTO:+0000
TZNAME:GMT
DTSTART:20261025T010000
END:STANDARD
BEGIN:DAYLIGHT
TZOFFSETFROM:+0000
TZOFFSETTO:+0100
TZNAME:BST
DTSTART:20270328T010000
END:DAYLIGHT
BEGIN:STANDARD
TZOFFSETFROM:+0100
TZOFFSETTO:+0000
TZNAME:GMT
DTSTART:20271031T010000
END:STANDARD
END:VTIMEZONE
BEGIN:VEVENT
DTSTART;TZID=Europe/London:20260405T103000
DTEND;TZID=Europe/London:20260405T120000
DTSTAMP:20260421T104948
CREATED:20260310T163455Z
LAST-MODIFIED:20260312T150613Z
UID:2087-1775385000-1775390400@stwilfridskibworth.co.uk
SUMMARY:Easter Sunday Family Service at St Wilfrid's
DESCRIPTION:We invite people to join us for a shared breakfast in the hall from 10am before our Easter Sunday Family Service with communion at 10.30am. Join us for a family-friendly service with sings\, puppets and activities for everyone! Please note that ‘9.30 Express’ will not be taking place on Easter Sunday.
URL:https://stwilfridskibworth.co.uk/event/easter-sunday-family-service-at-st-wilfrids/
LOCATION:St Wilfrid’s Church\, St Wilfrids Church\, Leicester\, LE8 0NB\, United Kingdom
ATTACH;FMTTYPE=image/jpeg:https://stwilfridskibworth.co.uk/wp-content/uploads/2026/03/Easter-Family-Service-new.avif
END:VEVENT
END:VCALENDAR